BEGIN:VCALENDAR
VERSION:2.0
PRODID:-//Restaurant Asia Ratskeller//NONSGML kigkonsult.se iCalcreator 2.1
 6.12//
METHOD:PUBLISH
X-MS-OLK-FORCEINSPECTOROPEN:TRUE
BEGIN:VEVENT
UID:20260420T194216CEST-34592VRdhB@Restaurant Asia Ratskeller
DTSTAMP:20260420T174216Z
DESCRIPTION:Unser Restaurant ist offen ab 11:30 - 16:00 und 17:30 - 24:00 U
 hr\n
DTSTART:20240212T000000
DTEND:20240212T000000
ORGANIZER:MAILTO:Restaurant Asia Ratskeller <info@asiaratskeller.ch>
SUMMARY:Güdel Montag - OFFEN 11:30-16:00 Uhr und 17:30-24:00 Uhr
END:VEVENT
END:VCALENDAR
