BEGIN:VCALENDAR
VERSION:2.0
PRODID:-//Restaurant Asia Ratskeller//NONSGML kigkonsult.se iCalcreator 2.1
 6.12//
METHOD:PUBLISH
X-MS-OLK-FORCEINSPECTOROPEN:TRUE
BEGIN:VEVENT
UID:20260420T194237CEST-38001btH70@Restaurant Asia Ratskeller
DTSTAMP:20260420T174237Z
DESCRIPTION:Unsere Resraurant ist ab 17:30 Uhr offen \n
DTSTART:20231224T000000
DTEND:20231224T160000
ORGANIZER:MAILTO:Restaurant Asia Ratskeller <info@asiaratskeller.ch>
SUMMARY:Vorweihnachstag - Öffnungszeiten 
END:VEVENT
END:VCALENDAR
