BEGIN:VCALENDAR
VERSION:2.0
PRODID:-//Restaurant Asia Ratskeller//NONSGML kigkonsult.se iCalcreator 2.1
 6.12//
METHOD:PUBLISH
X-MS-OLK-FORCEINSPECTOROPEN:TRUE
BEGIN:VEVENT
UID:20260420T194236CEST-8821TLVsEU@Restaurant Asia Ratskeller
DTSTAMP:20260420T174236Z
DESCRIPTION:Für den heutigen Feiertag gelten unsere normale Öffnungszeiten 
 \n
DTSTART:20231225T000000
DTEND:20231226T160000
ORGANIZER:MAILTO:Restaurant Asia Ratskeller <info@asiaratskeller.ch>
SUMMARY:Weihnachten - OFFEN 
END:VEVENT
END:VCALENDAR
