BEGIN:VCALENDAR
VERSION:2.0
PRODID:-//Restaurant Asia Ratskeller//NONSGML kigkonsult.se iCalcreator 2.1
 6.12//
METHOD:PUBLISH
X-MS-OLK-FORCEINSPECTOROPEN:TRUE
BEGIN:VEVENT
UID:20260420T193756CEST-7292TKhFmh@Restaurant Asia Ratskeller
DTSTAMP:20260420T173756Z
DESCRIPTION:Für den heutigen Feiertag gelten unsere normale Öffnungszeiten 
 \n
DTSTART:20240329T210000
DTEND:20240329T213000
ORGANIZER:MAILTO:Restaurant Asia Ratskeller <info@asiaratskeller.ch>
SUMMARY:Karfreitag- OFFEN 
END:VEVENT
END:VCALENDAR
