BEGIN:VCALENDAR
VERSION:2.0
PRODID:-//Restaurant Asia Ratskeller//NONSGML kigkonsult.se iCalcreator 2.1
 6.12//
METHOD:PUBLISH
X-MS-OLK-FORCEINSPECTOROPEN:TRUE
BEGIN:VEVENT
UID:20260420T194214CEST-72089xpE0O@Restaurant Asia Ratskeller
DTSTAMP:20260420T174214Z
DESCRIPTION:Am heutigen Feiertag bleibt unsere Restaurant geschlossen \n
DTSTART:20240401T210000
DTEND:20240401T213000
ORGANIZER:MAILTO:Restaurant Asia Ratskeller <info@asiaratskeller.ch>
SUMMARY:Ostermontag - GESCHLOSSEN
END:VEVENT
END:VCALENDAR
