BEGIN:VCALENDAR
VERSION:2.0
PRODID:-//Restaurant Asia Ratskeller//NONSGML kigkonsult.se iCalcreator 2.1
 6.12//
METHOD:PUBLISH
X-MS-OLK-FORCEINSPECTOROPEN:TRUE
BEGIN:VEVENT
UID:20260420T193810CEST-3194H7PZ53@Restaurant Asia Ratskeller
DTSTAMP:20260420T173810Z
DESCRIPTION:Für den heutigen Feiertag gelten unsere normale Öffnungszeiten 
 \n
DTSTART:20240509T210000
DTEND:20240509T213000
ORGANIZER:MAILTO:Restaurant Asia Ratskeller <info@asiaratskeller.ch>
SUMMARY:Auffahrt- OFFEN 
END:VEVENT
END:VCALENDAR
