BEGIN:VCALENDAR
VERSION:2.0
PRODID:-//Restaurant Asia Ratskeller//NONSGML kigkonsult.se iCalcreator 2.1
 6.12//
METHOD:PUBLISH
X-MS-OLK-FORCEINSPECTOROPEN:TRUE
BEGIN:VEVENT
UID:20260420T193810CEST-97643evuok@Restaurant Asia Ratskeller
DTSTAMP:20260420T173810Z
DESCRIPTION:Am heutigen Feiertag bleibt unsere Restaurant geschlossen \n
DTSTART:20240520T213000
DTEND:20240520T220000
ORGANIZER:MAILTO:Restaurant Asia Ratskeller <info@asiaratskeller.ch>
SUMMARY:Pfingstmontag-GESCHLOSSEN 
END:VEVENT
END:VCALENDAR
