BEGIN:VCALENDAR
VERSION:2.0
PRODID:-//Restaurant Asia Ratskeller//NONSGML kigkonsult.se iCalcreator 2.1
 6.12//
METHOD:PUBLISH
X-MS-OLK-FORCEINSPECTOROPEN:TRUE
BEGIN:VEVENT
UID:20260420T193754CEST-78240mwwVL@Restaurant Asia Ratskeller
DTSTAMP:20260420T173754Z
DESCRIPTION:für den heutigen Feiertag gelten unsere normale Öffnungszeiten 
 \n
DTSTART:20240815T113000
DTEND:20240815T220000
ORGANIZER:MAILTO:Restaurant Asia Ratskeller <info@asiaratskeller.ch>
SUMMARY:Maria Himmelfahrt- OFFEN 
END:VEVENT
END:VCALENDAR
