BEGIN:VCALENDAR
VERSION:2.0
PRODID:-//Restaurant Asia Ratskeller//NONSGML kigkonsult.se iCalcreator 2.1
 6.12//
METHOD:PUBLISH
X-MS-OLK-FORCEINSPECTOROPEN:TRUE
BEGIN:VEVENT
UID:20260420T193810CEST-5868oUrntK@Restaurant Asia Ratskeller
DTSTAMP:20260420T173810Z
DESCRIPTION:für den heutigen Feiertag gelten unsere normale Öffnungszeiten 
 \n
DTSTART:20241208T150000
DTEND:20241208T153000
ORGANIZER:MAILTO:Restaurant Asia Ratskeller <info@asiaratskeller.ch>
SUMMARY:Mariä Empfängnis- GEÖFFNET
END:VEVENT
END:VCALENDAR
