BEGIN:VCALENDAR
VERSION:2.0
PRODID:-//Restaurant Asia Ratskeller//NONSGML kigkonsult.se iCalcreator 2.1
 6.12//
METHOD:PUBLISH
X-MS-OLK-FORCEINSPECTOROPEN:TRUE
BEGIN:VEVENT
UID:20260420T193849CEST-1608TxUKOv@Restaurant Asia Ratskeller
DTSTAMP:20260420T173849Z
DESCRIPTION: Heute bleibt unser Restaurant Geschlossen \n
DTSTART:20241224T100000
DTEND:20241224T220000
ORGANIZER:MAILTO:Restaurant Asia Ratskeller <info@asiaratskeller.ch>
SUMMARY:Vorweihnachtstag- Geschlossen 
END:VEVENT
END:VCALENDAR
