BEGIN:VCALENDAR
VERSION:2.0
PRODID:-//Restaurant Asia Ratskeller//NONSGML kigkonsult.se iCalcreator 2.1
 6.12//
METHOD:PUBLISH
X-MS-OLK-FORCEINSPECTOROPEN:TRUE
BEGIN:VEVENT
UID:20260420T194214CEST-9804ZG2NmG@Restaurant Asia Ratskeller
DTSTAMP:20260420T174214Z
DESCRIPTION:für den heutigen Feiertag gelten unsere normale Öffnungszeiten
 \n
DTSTART:20241225T113000
DTEND:20241225T220000
ORGANIZER:MAILTO:Restaurant Asia Ratskeller <info@asiaratskeller.ch>
SUMMARY:Weihnachten- OFFEN 
END:VEVENT
END:VCALENDAR
