BEGIN:VCALENDAR
VERSION:2.0
PRODID:-//Restaurant Asia Ratskeller//NONSGML kigkonsult.se iCalcreator 2.1
 6.12//
METHOD:PUBLISH
X-MS-OLK-FORCEINSPECTOROPEN:TRUE
BEGIN:VEVENT
UID:20260420T194210CEST-38277uXD8K@Restaurant Asia Ratskeller
DTSTAMP:20260420T174210Z
DESCRIPTION:für den heutigen gelten unsere normale Öffnungszeiten \n
DTSTART:20241226T113000
DTEND:20241226T220000
ORGANIZER:MAILTO:Restaurant Asia Ratskeller <info@asiaratskeller.ch>
SUMMARY:Stephanstag- OFFEN 
END:VEVENT
END:VCALENDAR
