BEGIN:VCALENDAR
VERSION:2.0
PRODID:-//Restaurant Asia Ratskeller//NONSGML kigkonsult.se iCalcreator 2.1
 6.12//
METHOD:PUBLISH
X-MS-OLK-FORCEINSPECTOROPEN:TRUE
BEGIN:VEVENT
UID:20260420T193708CEST-2643XSsBwV@Restaurant Asia Ratskeller
DTSTAMP:20260420T173708Z
DESCRIPTION:für den heutigen Feiertag gelten unsere Öffnungszeiten ab 17:30
  Uhr \n
DTSTART:20241231T173000
DTEND:20241231T220000
ORGANIZER:MAILTO:Restaurant Asia Ratskeller <info@asiaratskeller.ch>
SUMMARY:Silvester- OFFEN 
END:VEVENT
END:VCALENDAR
