BEGIN:VCALENDAR
VERSION:2.0
PRODID:-//Restaurant Asia Ratskeller//NONSGML kigkonsult.se iCalcreator 2.1
 6.12//
METHOD:PUBLISH
X-MS-OLK-FORCEINSPECTOROPEN:TRUE
BEGIN:VEVENT
UID:20260420T193708CEST-79337oHfxG@Restaurant Asia Ratskeller
DTSTAMP:20260420T173708Z
DESCRIPTION:Heute ist unser Restaurant von 11:00 - 15:30 Uhr geöffnet
DTSTART:20250113T000000
DTEND:20250113T235900
ORGANIZER:MAILTO:Restaurant Asia Ratskeller <info@asiaratskeller.ch>
SUMMARY:Erster Fasnachtstag - OFFEN ab11:00-15:30 Uhr 
END:VEVENT
END:VCALENDAR
