BEGIN:VCALENDAR
VERSION:2.0
PRODID:-//Restaurant Asia Ratskeller//NONSGML kigkonsult.se iCalcreator 2.1
 6.12//
METHOD:PUBLISH
X-MS-OLK-FORCEINSPECTOROPEN:TRUE
BEGIN:VEVENT
UID:20260420T193655CEST-8404ichm8K@Restaurant Asia Ratskeller
DTSTAMP:20260420T173655Z
DESCRIPTION:Heute ist unser Restaurant bleibt offen gelten die normalen Öff
 nungszeiten
DTSTART:20250227T000000
DTEND:20250227T235900
ORGANIZER:MAILTO:Restaurant Asia Ratskeller <info@asiaratskeller.ch>
SUMMARY:Schmutziger Donnerstag - OFFEN 
END:VEVENT
END:VCALENDAR
