BEGIN:VCALENDAR
VERSION:2.0
PRODID:-//Restaurant Asia Ratskeller//NONSGML kigkonsult.se iCalcreator 2.1
 6.12//
METHOD:PUBLISH
X-MS-OLK-FORCEINSPECTOROPEN:TRUE
BEGIN:VEVENT
UID:20260420T193709CEST-6069W10zI2@Restaurant Asia Ratskeller
DTSTAMP:20260420T173709Z
DESCRIPTION:Heute ist unser Restaurant bleibt offen gelten die normal Öffnu
 ngszeiten 
DTSTART:20250304T000000
DTEND:20250304T235900
ORGANIZER:MAILTO:Restaurant Asia Ratskeller <info@asiaratskeller.ch>
SUMMARY:Güdel Dienstag - OFFEN
END:VEVENT
END:VCALENDAR
