BEGIN:VCALENDAR
VERSION:2.0
PRODID:-//Restaurant Asia Ratskeller//NONSGML kigkonsult.se iCalcreator 2.1
 6.12//
METHOD:PUBLISH
X-MS-OLK-FORCEINSPECTOROPEN:TRUE
BEGIN:VEVENT
UID:20260420T194211CEST-3931VUHLuU@Restaurant Asia Ratskeller
DTSTAMP:20260420T174211Z
DESCRIPTION:Heute ist unsere Restaurant bleibt offen gelten die normal Öffn
 ungszeiten
DTSTART:20250418T000000
DTEND:20250418T235900
ORGANIZER:MAILTO:Restaurant Asia Ratskeller <info@asiaratskeller.ch>
SUMMARY:Karfreitag- OFFEN 
END:VEVENT
END:VCALENDAR
