BEGIN:VCALENDAR
VERSION:2.0
PRODID:-//Restaurant Asia Ratskeller//NONSGML kigkonsult.se iCalcreator 2.1
 6.12//
METHOD:PUBLISH
X-MS-OLK-FORCEINSPECTOROPEN:TRUE
BEGIN:VEVENT
UID:20260420T194216CEST-820213nvJK@Restaurant Asia Ratskeller
DTSTAMP:20260420T174216Z
DESCRIPTION:Heute ist unsere Restaurant GESCHLOSSEN
DTSTART:20250421T000000
DTEND:20250421T235900
ORGANIZER:MAILTO:Restaurant Asia Ratskeller <info@asiaratskeller.ch>
SUMMARY:Ostermontag - GESCHLOSSEN
END:VEVENT
END:VCALENDAR
