BEGIN:VCALENDAR
VERSION:2.0
PRODID:-//Restaurant Asia Ratskeller//NONSGML kigkonsult.se iCalcreator 2.1
 6.12//
METHOD:PUBLISH
X-MS-OLK-FORCEINSPECTOROPEN:TRUE
BEGIN:VEVENT
UID:20260420T193755CEST-3105zEbIxi@Restaurant Asia Ratskeller
DTSTAMP:20260420T173755Z
DESCRIPTION:Heute ist unsere Restaurant bleibt offen gelten die normal Öffn
 ungszeiten 
DTSTART:20250529T000000
DTEND:20250529T235900
ORGANIZER:MAILTO:Restaurant Asia Ratskeller <info@asiaratskeller.ch>
SUMMARY:Christi Himmelfahrt- OFFEN
END:VEVENT
END:VCALENDAR
