BEGIN:VCALENDAR
VERSION:2.0
PRODID:-//Restaurant Asia Ratskeller//NONSGML kigkonsult.se iCalcreator 2.1
 6.12//
METHOD:PUBLISH
X-MS-OLK-FORCEINSPECTOROPEN:TRUE
BEGIN:VEVENT
UID:20260420T193848CEST-1664NW6O3r@Restaurant Asia Ratskeller
DTSTAMP:20260420T173848Z
DESCRIPTION:Heute ist unsere Restaurant Geschlossen 
DTSTART:20250609T000000
DTEND:20250609T235900
ORGANIZER:MAILTO:Restaurant Asia Ratskeller <info@asiaratskeller.ch>
SUMMARY:Pfingstmontag- GESCHLOSSEN 
END:VEVENT
END:VCALENDAR
