BEGIN:VCALENDAR
VERSION:2.0
PRODID:-//Restaurant Asia Ratskeller//NONSGML kigkonsult.se iCalcreator 2.1
 6.12//
METHOD:PUBLISH
X-MS-OLK-FORCEINSPECTOROPEN:TRUE
BEGIN:VEVENT
UID:20260420T193653CEST-8892BMveU1@Restaurant Asia Ratskeller
DTSTAMP:20260420T173653Z
DESCRIPTION: Betriebsferien vom 21/07 bis 31/07 bleibt unsere Restaurant GE
 SCHLOSSEN 
DTSTART:20250721T093000
DTEND:20250731T100000
ORGANIZER:MAILTO:Restaurant Asia Ratskeller <info@asiaratskeller.ch>
SUMMARY:Betriebsferien 21/07 bis 31/07- GESCHLOSSEN 
END:VEVENT
END:VCALENDAR
