BEGIN:VCALENDAR
VERSION:2.0
PRODID:-//Restaurant Asia Ratskeller//NONSGML kigkonsult.se iCalcreator 2.1
 6.12//
METHOD:PUBLISH
X-MS-OLK-FORCEINSPECTOROPEN:TRUE
BEGIN:VEVENT
UID:20260420T180605CEST-0978aJAtUN@Restaurant Asia Ratskeller
DTSTAMP:20260420T160605Z
DESCRIPTION:
DTSTART:20251224T000000
DTEND:20251224T235900
ORGANIZER:MAILTO:Restaurant Asia Ratskeller <info@asiaratskeller.ch>
SUMMARY:Heiligabend - Geschlossen 
END:VEVENT
END:VCALENDAR
