BEGIN:VCALENDAR
VERSION:2.0
PRODID:-//Restaurant Asia Ratskeller//NONSGML kigkonsult.se iCalcreator 2.1
 6.12//
METHOD:PUBLISH
X-MS-OLK-FORCEINSPECTOROPEN:TRUE
BEGIN:VEVENT
UID:20260420T180621CEST-6559RmX2hC@Restaurant Asia Ratskeller
DTSTAMP:20260420T160621Z
DESCRIPTION:
DTSTART:20251231T000000
DTEND:20251231T235900
ORGANIZER:MAILTO:Restaurant Asia Ratskeller <info@asiaratskeller.ch>
SUMMARY:Silvester - Offen ab 17:30 Uhr à la carte
END:VEVENT
END:VCALENDAR
