BEGIN:VCALENDAR
VERSION:2.0
PRODID:-//Restaurant Asia Ratskeller//NONSGML kigkonsult.se iCalcreator 2.1
 6.12//
METHOD:PUBLISH
X-MS-OLK-FORCEINSPECTOROPEN:TRUE
BEGIN:VEVENT
UID:20260420T180605CEST-3703XfW5R1@Restaurant Asia Ratskeller
DTSTAMP:20260420T160605Z
DESCRIPTION:
DTSTART:20260101T000000
DTEND:20260101T235900
ORGANIZER:MAILTO:Restaurant Asia Ratskeller <info@asiaratskeller.ch>
SUMMARY:Neujahr- Offen ab 17:30 Uhr à la carte
END:VEVENT
END:VCALENDAR
