BEGIN:VCALENDAR
VERSION:2.0
PRODID:-//Restaurant Asia Ratskeller//NONSGML kigkonsult.se iCalcreator 2.1
 6.12//
METHOD:PUBLISH
X-MS-OLK-FORCEINSPECTOROPEN:TRUE
BEGIN:VEVENT
UID:20260420T180605CEST-9938Nhlb5e@Restaurant Asia Ratskeller
DTSTAMP:20260420T160605Z
DESCRIPTION:
DTSTART:20251226T000000
DTEND:20251227T235900
ORGANIZER:MAILTO:Restaurant Asia Ratskeller <info@asiaratskeller.ch>
SUMMARY:Stephanstag - Offen 
END:VEVENT
END:VCALENDAR
