BEGIN:VCALENDAR
VERSION:2.0
PRODID:-//Restaurant Asia Ratskeller//NONSGML kigkonsult.se iCalcreator 2.1
 6.12//
METHOD:PUBLISH
X-MS-OLK-FORCEINSPECTOROPEN:TRUE
BEGIN:VEVENT
UID:20260420T175640CEST-3991slUTrg@Restaurant Asia Ratskeller
DTSTAMP:20260420T155640Z
DESCRIPTION:Heute bleibt unser restaurant vin 11:30-16:00 Uhr
DTSTART:20260112T000000
DTEND:20260112T235900
ORGANIZER:MAILTO:Restaurant Asia Ratskeller <info@asiaratskeller.ch>
SUMMARY:Erster Fasnacht 
END:VEVENT
END:VCALENDAR
