BEGIN:VCALENDAR
VERSION:2.0
PRODID:-//Restaurant Asia Ratskeller//NONSGML kigkonsult.se iCalcreator 2.1
 6.12//
METHOD:PUBLISH
X-MS-OLK-FORCEINSPECTOROPEN:TRUE
BEGIN:VEVENT
UID:20260420T175543CEST-4393AEbDwK@Restaurant Asia Ratskeller
DTSTAMP:20260420T155543Z
DESCRIPTION:
DTSTART:20260319T000000
DTEND:20260319T235900
ORGANIZER:MAILTO:Restaurant Asia Ratskeller <info@asiaratskeller.ch>
SUMMARY:Josefstag - OFFEN 
END:VEVENT
END:VCALENDAR
