BEGIN:VCALENDAR
VERSION:2.0
PRODID:-//Restaurant Asia Ratskeller//NONSGML kigkonsult.se iCalcreator 2.1
 6.12//
METHOD:PUBLISH
X-MS-OLK-FORCEINSPECTOROPEN:TRUE
BEGIN:VEVENT
UID:20260420T180411CEST-7216fc1TWK@Restaurant Asia Ratskeller
DTSTAMP:20260420T160411Z
DESCRIPTION:
DTSTART:20260405T000000
DTEND:20260405T235900
ORGANIZER:MAILTO:Restaurant Asia Ratskeller <info@asiaratskeller.ch>
SUMMARY:Ostersonntag- OFFEN
END:VEVENT
END:VCALENDAR
