BEGIN:VCALENDAR
VERSION:2.0
PRODID:-//Restaurant Asia Ratskeller//NONSGML kigkonsult.se iCalcreator 2.1
 6.12//
METHOD:PUBLISH
X-MS-OLK-FORCEINSPECTOROPEN:TRUE
BEGIN:VEVENT
UID:20260420T174439CEST-6356TcfuTi@Restaurant Asia Ratskeller
DTSTAMP:20260420T154439Z
DESCRIPTION:
DTSTART:20260525T000000
DTEND:20260525T235900
ORGANIZER:MAILTO:Restaurant Asia Ratskeller <info@asiaratskeller.ch>
SUMMARY:Pfingstmontag - GESCHLOSSEN 
END:VEVENT
END:VCALENDAR
