BEGIN:VCALENDAR
VERSION:2.0
PRODID:-//Restaurant Asia Ratskeller//NONSGML kigkonsult.se iCalcreator 2.1
 6.12//
METHOD:PUBLISH
X-MS-OLK-FORCEINSPECTOROPEN:TRUE
BEGIN:VEVENT
UID:20260420T174143CEST-7346GJ3Nh6@Restaurant Asia Ratskeller
DTSTAMP:20260420T154143Z
DESCRIPTION:
DTSTART:20260604T000000
DTEND:20260604T235900
ORGANIZER:MAILTO:Restaurant Asia Ratskeller <info@asiaratskeller.ch>
SUMMARY:Fronleichnam - OFFEN 
END:VEVENT
END:VCALENDAR
