BEGIN:VCALENDAR
VERSION:2.0
PRODID:-//Restaurant Asia Ratskeller//NONSGML kigkonsult.se iCalcreator 2.1
 6.12//
METHOD:PUBLISH
X-MS-OLK-FORCEINSPECTOROPEN:TRUE
BEGIN:VEVENT
UID:20260420T193710CEST-0676DOLhda@Restaurant Asia Ratskeller
DTSTAMP:20260420T173710Z
DESCRIPTION:Unser Restaurant bleibt heute geschlossen
DTSTART:20190801T000000
DTEND:20190801T000000
ORGANIZER:MAILTO:Restaurant Asia Ratskeller <info@asiaratskeller.ch>
SUMMARY:Nationalfeiertag - geschlossen
END:VEVENT
END:VCALENDAR
