BEGIN:VCALENDAR
VERSION:2.0
PRODID:-//Restaurant Asia Ratskeller//NONSGML kigkonsult.se iCalcreator 2.1
 6.12//
METHOD:PUBLISH
X-MS-OLK-FORCEINSPECTOROPEN:TRUE
BEGIN:VEVENT
UID:20260420T211127CEST-6386gVmXSd@Restaurant Asia Ratskeller
DTSTAMP:20260420T191127Z
DESCRIPTION:Es geten unsere normalen Öffnungszeiten
DTSTART:20191101T000000
DTEND:20191101T000000
ORGANIZER:MAILTO:Restaurant Asia Ratskeller <info@asiaratskeller.ch>
SUMMARY:Allerheiligen - geöffnet
END:VEVENT
END:VCALENDAR
