BEGIN:VCALENDAR
VERSION:2.0
PRODID:-//Restaurant Asia Ratskeller//NONSGML kigkonsult.se iCalcreator 2.1
 6.12//
METHOD:PUBLISH
X-MS-OLK-FORCEINSPECTOROPEN:TRUE
BEGIN:VEVENT
UID:20260420T211128CEST-7301XkeOUH@Restaurant Asia Ratskeller
DTSTAMP:20260420T191128Z
DESCRIPTION:Unser Restaurant bleibt heute geschlossen
DTSTART:20191224T000000
DTEND:20191224T000000
ORGANIZER:MAILTO:Restaurant Asia Ratskeller <info@asiaratskeller.ch>
SUMMARY:Heiliger Abend - geschlossen
END:VEVENT
END:VCALENDAR
